BEGIN:VCALENDAR
VERSION:2.0
CALSCALE:GREGORIAN
BEGIN:VEVENT
URL:https://www.learndesk.us/class/4608670140727296/lesson/403e409c0a2fc8b218fd28b1e9be758a?ref=outlook-calendar
SUMMARY:Get Node Values
DTSTART;TZID=America/Los_Angeles:20260423T190000
DTEND;TZID=America/Los_Angeles:20260423T200000
LOCATION:https://www.learndesk.us/class/4608670140727296/lesson/403e409c0a2fc8b218fd28b1e9be758a?ref=outlook-calendar
DESCRIPTION: Get the Value of an Element

The text value of an element node is stored in a child node. This node is called a text node. To retrieve the text value of an element, you must retrieve the value of the elements' text node.

https://www.learndesk.us/class/4608670140727296/lesson/403e409c0a2fc8b218fd28b1e9be758a?ref=outlook-calendar
STATUS:CONFIRMED
SEQUENCE:3
BEGIN:VALARM
TRIGGER:-PT10M
DESCRIPTION:Class Reminder
ACTION:DISPLAY
END:VALARM
END:VEVENT
END:VCALENDAR