BEGIN:VCALENDAR
VERSION:2.0
CALSCALE:GREGORIAN
BEGIN:VEVENT
URL:https://www.learndesk.us/class/4608670140727296/lesson/3b682a584f4b09de4c9df308fab53957?ref=outlook-calendar
SUMMARY:Limit File Size
DTSTART;TZID=America/Los_Angeles:20260423T190000
DTEND;TZID=America/Los_Angeles:20260423T200000
LOCATION:https://www.learndesk.us/class/4608670140727296/lesson/3b682a584f4b09de4c9df308fab53957?ref=outlook-calendar
DESCRIPTION: Now, we want to check the size of the file.

https://www.learndesk.us/class/4608670140727296/lesson/3b682a584f4b09de4c9df308fab53957?ref=outlook-calendar
STATUS:CONFIRMED
SEQUENCE:3
BEGIN:VALARM
TRIGGER:-PT10M
DESCRIPTION:Class Reminder
ACTION:DISPLAY
END:VALARM
END:VEVENT
END:VCALENDAR