BEGIN:VCALENDAR
VERSION:2.0
CALSCALE:GREGORIAN
BEGIN:VEVENT
URL:https://www.learndesk.us/class/4608670140727296/lesson/37b61ec724a9fa457b4d71fb3f7a9f7f?ref=outlook-calendar
SUMMARY:Delete Data Using DELETE Query
DTSTART;TZID=America/Los_Angeles:20260423T190000
DTEND;TZID=America/Los_Angeles:20260423T200000
LOCATION:https://www.learndesk.us/class/4608670140727296/lesson/37b61ec724a9fa457b4d71fb3f7a9f7f?ref=outlook-calendar
DESCRIPTION: The DELETE statement is used to delete existing records in a table.

https://www.learndesk.us/class/4608670140727296/lesson/37b61ec724a9fa457b4d71fb3f7a9f7f?ref=outlook-calendar
STATUS:CONFIRMED
SEQUENCE:3
BEGIN:VALARM
TRIGGER:-PT10M
DESCRIPTION:Class Reminder
ACTION:DISPLAY
END:VALARM
END:VEVENT
END:VCALENDAR