BEGIN:VCALENDAR
VERSION:2.0
CALSCALE:GREGORIAN
BEGIN:VEVENT
URL:https://www.learndesk.us/class/4608670140727296/lesson/25f970c6a55d8290cfe120af7158feca?ref=outlook-calendar
SUMMARY:Validate an Integer Within a Range
DTSTART;TZID=America/Los_Angeles:20260423T190000
DTEND;TZID=America/Los_Angeles:20260423T200000
LOCATION:https://www.learndesk.us/class/4608670140727296/lesson/25f970c6a55d8290cfe120af7158feca?ref=outlook-calendar
DESCRIPTION: In this tutorial I'll be showing you how to validate an integer within a minimum and maximum range. It's rather simple, but rather useful as well. In terms of validation and numbers, I only use these is more complex applications as opposed to just a basic/intermediate complexity based website.

https://www.learndesk.us/class/4608670140727296/lesson/25f970c6a55d8290cfe120af7158feca?ref=outlook-calendar
STATUS:CONFIRMED
SEQUENCE:3
BEGIN:VALARM
TRIGGER:-PT10M
DESCRIPTION:Class Reminder
ACTION:DISPLAY
END:VALARM
END:VEVENT
END:VCALENDAR