BEGIN:VCALENDAR
VERSION:2.0
CALSCALE:GREGORIAN
BEGIN:VEVENT
URL:https://www.learndesk.us/class/4608670140727296/lesson/2439f0f0fea9b8508c1d804fdb389325?ref=outlook-calendar
SUMMARY:Configure php.ini File For File Uploading
DTSTART;TZID=America/Los_Angeles:20260423T190000
DTEND;TZID=America/Los_Angeles:20260423T200000
LOCATION:https://www.learndesk.us/class/4608670140727296/lesson/2439f0f0fea9b8508c1d804fdb389325?ref=outlook-calendar
DESCRIPTION: First, ensure that PHP is configured to allow file uploads.

In your "php.ini" file, search for the file_uploads directive, and set it to On:

https://www.learndesk.us/class/4608670140727296/lesson/2439f0f0fea9b8508c1d804fdb389325?ref=outlook-calendar
STATUS:CONFIRMED
SEQUENCE:3
BEGIN:VALARM
TRIGGER:-PT10M
DESCRIPTION:Class Reminder
ACTION:DISPLAY
END:VALARM
END:VEVENT
END:VCALENDAR