BEGIN:VCALENDAR
VERSION:2.0
CALSCALE:GREGORIAN
BEGIN:VEVENT
URL:https://www.learndesk.us/class/4608670140727296/lesson/21dd24c144b82a961ef9f6e6d6c696aa?ref=outlook-calendar
SUMMARY:Abstract Class
DTSTART;TZID=America/Los_Angeles:20260423T190000
DTEND;TZID=America/Los_Angeles:20260423T200000
LOCATION:https://www.learndesk.us/class/4608670140727296/lesson/21dd24c144b82a961ef9f6e6d6c696aa?ref=outlook-calendar
DESCRIPTION: An abstract class is a class that is declared abstract — it may or may not include abstract methods. Abstract classes cannot be instantiated, but they can be subclassed. An abstract class may have static fields and static methods.

https://www.learndesk.us/class/4608670140727296/lesson/21dd24c144b82a961ef9f6e6d6c696aa?ref=outlook-calendar
STATUS:CONFIRMED
SEQUENCE:3
BEGIN:VALARM
TRIGGER:-PT10M
DESCRIPTION:Class Reminder
ACTION:DISPLAY
END:VALARM
END:VEVENT
END:VCALENDAR