BEGIN:VCALENDAR
VERSION:2.0
CALSCALE:GREGORIAN
BEGIN:VEVENT
URL:https://www.learndesk.us/class/4608670140727296/lesson/211b40912fe902b73894a3c2c867881b?ref=outlook-calendar
SUMMARY:Constants
DTSTART;TZID=America/Los_Angeles:20260423T190000
DTEND;TZID=America/Los_Angeles:20260423T200000
LOCATION:https://www.learndesk.us/class/4608670140727296/lesson/211b40912fe902b73894a3c2c867881b?ref=outlook-calendar
DESCRIPTION: In programming, a constant is a value that never changes. The other type of values that programs use is variables, symbols that can represent different values throughout the course of a program.

https://www.learndesk.us/class/4608670140727296/lesson/211b40912fe902b73894a3c2c867881b?ref=outlook-calendar
STATUS:CONFIRMED
SEQUENCE:3
BEGIN:VALARM
TRIGGER:-PT10M
DESCRIPTION:Class Reminder
ACTION:DISPLAY
END:VALARM
END:VEVENT
END:VCALENDAR