BEGIN:VCALENDAR
VERSION:2.0
CALSCALE:GREGORIAN
BEGIN:VEVENT
URL:https://www.learndesk.us/class/4608670140727296/lesson/1e9e63369bfbdd9bc9b3680bb2759053?ref=outlook-calendar
SUMMARY:Setup On Windows
DTSTART;TZID=America/Los_Angeles:20260423T190000
DTEND;TZID=America/Los_Angeles:20260423T200000
LOCATION:https://www.learndesk.us/class/4608670140727296/lesson/1e9e63369bfbdd9bc9b3680bb2759053?ref=outlook-calendar
DESCRIPTION: Learn how to setup on PHP on Windows.

https://www.learndesk.us/class/4608670140727296/lesson/1e9e63369bfbdd9bc9b3680bb2759053?ref=outlook-calendar
STATUS:CONFIRMED
SEQUENCE:3
BEGIN:VALARM
TRIGGER:-PT10M
DESCRIPTION:Class Reminder
ACTION:DISPLAY
END:VALARM
END:VEVENT
END:VCALENDAR