BEGIN:VCALENDAR
VERSION:2.0
CALSCALE:GREGORIAN
BEGIN:VEVENT
URL:https://www.learndesk.us/class/4608670140727296/lesson/1cb230d55bfb690ce86fdf09620eb750?ref=outlook-calendar
SUMMARY:Connecting To A Database
DTSTART;TZID=America/Los_Angeles:20260423T190000
DTEND;TZID=America/Los_Angeles:20260423T200000
LOCATION:https://www.learndesk.us/class/4608670140727296/lesson/1cb230d55bfb690ce86fdf09620eb750?ref=outlook-calendar
DESCRIPTION: Database connection. A Database connection is a facility in computer science that allows client software to talk to database server software, whether on the same machine or not. ... The Connection String is composed of a set of key/value pairs as dictated by the data access interface and data provider being used.

https://www.learndesk.us/class/4608670140727296/lesson/1cb230d55bfb690ce86fdf09620eb750?ref=outlook-calendar
STATUS:CONFIRMED
SEQUENCE:3
BEGIN:VALARM
TRIGGER:-PT10M
DESCRIPTION:Class Reminder
ACTION:DISPLAY
END:VALARM
END:VEVENT
END:VCALENDAR