BEGIN:VCALENDAR
VERSION:2.0
CALSCALE:GREGORIAN
BEGIN:VEVENT
URL:https://www.learndesk.us/class/4608670140727296/lesson/1a317110f53bf85ae75efd9964f17dcb?ref=outlook-calendar
SUMMARY:MySQL vs MySQLi vs PDO
DTSTART;TZID=America/Los_Angeles:20260423T190000
DTEND;TZID=America/Los_Angeles:20260423T200000
LOCATION:https://www.learndesk.us/class/4608670140727296/lesson/1a317110f53bf85ae75efd9964f17dcb?ref=outlook-calendar
DESCRIPTION: The MySQLi is an extension to work with MySQL version 4.1.13 or newer. MySQLi is introduced with PHP Version 5.0 and is a replacement for the mysql functions, with object-oriented and procedural versions. ... PDO (PHP Data Objects) is a general database abstraction layer with support for MySQL among many other databases.

https://www.learndesk.us/class/4608670140727296/lesson/1a317110f53bf85ae75efd9964f17dcb?ref=outlook-calendar
STATUS:CONFIRMED
SEQUENCE:3
BEGIN:VALARM
TRIGGER:-PT10M
DESCRIPTION:Class Reminder
ACTION:DISPLAY
END:VALARM
END:VEVENT
END:VCALENDAR