BEGIN:VCALENDAR
VERSION:2.0
CALSCALE:GREGORIAN
BEGIN:VEVENT
URL:https://www.learndesk.us/class/4608670140727296/lesson/147521e3d994a9e331ce771bbf5c1b7b?ref=outlook-calendar
SUMMARY:Online Code Editor
DTSTART;TZID=America/Los_Angeles:20260423T190000
DTEND;TZID=America/Los_Angeles:20260423T200000
LOCATION:https://www.learndesk.us/class/4608670140727296/lesson/147521e3d994a9e331ce771bbf5c1b7b?ref=outlook-calendar
DESCRIPTION: Learn about the Online Code Editor to code in PHP without installing anything.

https://www.learndesk.us/class/4608670140727296/lesson/147521e3d994a9e331ce771bbf5c1b7b?ref=outlook-calendar
STATUS:CONFIRMED
SEQUENCE:3
BEGIN:VALARM
TRIGGER:-PT10M
DESCRIPTION:Class Reminder
ACTION:DISPLAY
END:VALARM
END:VEVENT
END:VCALENDAR