BEGIN:VCALENDAR
VERSION:2.0
CALSCALE:GREGORIAN
BEGIN:VEVENT
URL:https://www.learndesk.us/class/4608670140727296/lesson/0e38c270fdb9d78b2baa6fe576586e61?ref=outlook-calendar
SUMMARY:Public vs Private vs Protected
DTSTART;TZID=America/Los_Angeles:20260423T190000
DTEND;TZID=America/Los_Angeles:20260423T200000
LOCATION:https://www.learndesk.us/class/4608670140727296/lesson/0e38c270fdb9d78b2baa6fe576586e61?ref=outlook-calendar
DESCRIPTION: Class scope. A name declared within a member function hides a declaration of the same name whose scope extends to or past the end of the member function's class.

https://www.learndesk.us/class/4608670140727296/lesson/0e38c270fdb9d78b2baa6fe576586e61?ref=outlook-calendar
STATUS:CONFIRMED
SEQUENCE:3
BEGIN:VALARM
TRIGGER:-PT10M
DESCRIPTION:Class Reminder
ACTION:DISPLAY
END:VALARM
END:VEVENT
END:VCALENDAR