BEGIN:VCALENDAR
VERSION:2.0
CALSCALE:GREGORIAN
BEGIN:VEVENT
URL:https://www.learndesk.us/class/4608670140727296/lesson/0ce3c3d480bbc760e9d4e13e97a0af93?ref=outlook-calendar
SUMMARY:Load Data From A Database Using AJAX
DTSTART;TZID=America/Los_Angeles:20260423T190000
DTEND;TZID=America/Los_Angeles:20260423T200000
LOCATION:https://www.learndesk.us/class/4608670140727296/lesson/0ce3c3d480bbc760e9d4e13e97a0af93?ref=outlook-calendar
DESCRIPTION: AJAX can be used for interactive communication with a database.

https://www.learndesk.us/class/4608670140727296/lesson/0ce3c3d480bbc760e9d4e13e97a0af93?ref=outlook-calendar
STATUS:CONFIRMED
SEQUENCE:3
BEGIN:VALARM
TRIGGER:-PT10M
DESCRIPTION:Class Reminder
ACTION:DISPLAY
END:VALARM
END:VEVENT
END:VCALENDAR