BEGIN:VCALENDAR
VERSION:2.0
CALSCALE:GREGORIAN
BEGIN:VEVENT
URL:https://www.learndesk.us/class/4608670140727296/lesson/0c4d0fc6e2e9cb94c9a96637395ad8ff?ref=outlook-calendar
SUMMARY:Load and Output XML Using The Dom Parser
DTSTART;TZID=America/Los_Angeles:20260423T190000
DTEND;TZID=America/Los_Angeles:20260423T200000
LOCATION:https://www.learndesk.us/class/4608670140727296/lesson/0c4d0fc6e2e9cb94c9a96637395ad8ff?ref=outlook-calendar
DESCRIPTION: The built-in DOM parser makes it possible to process XML documents in PHP.

https://www.learndesk.us/class/4608670140727296/lesson/0c4d0fc6e2e9cb94c9a96637395ad8ff?ref=outlook-calendar
STATUS:CONFIRMED
SEQUENCE:3
BEGIN:VALARM
TRIGGER:-PT10M
DESCRIPTION:Class Reminder
ACTION:DISPLAY
END:VALARM
END:VEVENT
END:VCALENDAR