BEGIN:VCALENDAR
VERSION:2.0
CALSCALE:GREGORIAN
BEGIN:VEVENT
URL:https://www.learndesk.us/class/4608670140727296/lesson/04906a627eeeb001e304c724877dd718?ref=outlook-calendar
SUMMARY:Creating A Database & Table (phpMyAdmin)
DTSTART;TZID=America/Los_Angeles:20260423T190000
DTEND;TZID=America/Los_Angeles:20260423T200000
LOCATION:https://www.learndesk.us/class/4608670140727296/lesson/04906a627eeeb001e304c724877dd718?ref=outlook-calendar
DESCRIPTION: Let's create a database and table for our PHP web application.

https://www.learndesk.us/class/4608670140727296/lesson/04906a627eeeb001e304c724877dd718?ref=outlook-calendar
STATUS:CONFIRMED
SEQUENCE:3
BEGIN:VALARM
TRIGGER:-PT10M
DESCRIPTION:Class Reminder
ACTION:DISPLAY
END:VALARM
END:VEVENT
END:VCALENDAR