BEGIN:VCALENDAR
VERSION:2.0
CALSCALE:GREGORIAN
BEGIN:VEVENT
URL:https://www.learndesk.us/class/4608670140727296/ultimate-php-and-mysql-web-development?ref=outlook-calendar
SUMMARY:Ultimate PHP and MySQL Web Development
DTSTART;TZID=America/Los_Angeles:20260423T190000
DTEND;TZID=America/Los_Angeles:20260423T200000
LOCATION:https://www.learndesk.us/class/4608670140727296/ultimate-php-and-mysql-web-development?ref=outlook-calendar
DESCRIPTION: 
Learn about everything there is to know about PHP and MySQL web development. A step by step process is used to explain every facet of these topics.
Note: This course includes information on web programming, design, OOP, and SQL.
What will you learn in this course?

What are PHP and MySQL?
Web certifications
How to develop websites/applications using PHP and MySQL
Features of the PHP and MySQL programming language
Coding semantics
Application programming
Network programming

PHP is one of the most popular languages in the world. It is requested by all companies such as Google, Facebook, and Microsoft for development. It powers Facebook and many other popular websites. This course will ensure you are not left out as more and more companies request this awesome and powerful language. This course will teach you everything about programming PHP and MySQL applications.
You will receive all the knowledge to use and leverage the powerful technology behind these amazing and wonderful...

https://www.learndesk.us/class/4608670140727296/ultimate-php-and-mysql-web-development?ref=outlook-calendar
STATUS:CONFIRMED
SEQUENCE:3
BEGIN:VALARM
TRIGGER:-PT10M
DESCRIPTION:Class Reminder
ACTION:DISPLAY
END:VALARM
END:VEVENT
END:VCALENDAR