BEGIN:VCALENDAR
VERSION:2.0
CALSCALE:GREGORIAN
BEGIN:VEVENT
URL:https://www.learndesk.us/class/4592656506159104/lesson/eff0257a2df9142febf0e207ca08683f?ref=outlook-calendar
SUMMARY:Introduction
DTSTART;TZID=America/Los_Angeles:20260421T190000
DTEND;TZID=America/Los_Angeles:20260421T200000
LOCATION:https://www.learndesk.us/class/4592656506159104/lesson/eff0257a2df9142febf0e207ca08683f?ref=outlook-calendar
DESCRIPTION: This introduction will give you a brief understanding of what is included in this course.

https://www.learndesk.us/class/4592656506159104/lesson/eff0257a2df9142febf0e207ca08683f?ref=outlook-calendar
STATUS:CONFIRMED
SEQUENCE:3
BEGIN:VALARM
TRIGGER:-PT10M
DESCRIPTION:Class Reminder
ACTION:DISPLAY
END:VALARM
END:VEVENT
END:VCALENDAR