BEGIN:VCALENDAR
VERSION:2.0
CALSCALE:GREGORIAN
BEGIN:VEVENT
URL:https://www.learndesk.us/class/4592656506159104/lesson/dca81bd3a99c5f9d3b558375de7fa6f7?ref=outlook-calendar
SUMMARY:Inserting Pictures
DTSTART;TZID=America/Los_Angeles:20260425T190000
DTEND;TZID=America/Los_Angeles:20260425T200000
LOCATION:https://www.learndesk.us/class/4592656506159104/lesson/dca81bd3a99c5f9d3b558375de7fa6f7?ref=outlook-calendar
DESCRIPTION: Upon completion of this lesson, you will have the skills to insert pictures into your notes. You will also learn of the three types of pictures that can be inserted -

- Screen clippings
- Pictures (on PC)
- Online pictures (Web)

https://www.learndesk.us/class/4592656506159104/lesson/dca81bd3a99c5f9d3b558375de7fa6f7?ref=outlook-calendar
STATUS:CONFIRMED
SEQUENCE:3
BEGIN:VALARM
TRIGGER:-PT10M
DESCRIPTION:Class Reminder
ACTION:DISPLAY
END:VALARM
END:VEVENT
END:VCALENDAR