BEGIN:VCALENDAR
VERSION:2.0
CALSCALE:GREGORIAN
BEGIN:VEVENT
URL:https://www.learndesk.us/class/4592656506159104/lesson/cde9f2a32a5d03144e45810524c9413a?ref=outlook-calendar
SUMMARY:Working with Notebooks
DTSTART;TZID=America/Los_Angeles:20260421T190000
DTEND;TZID=America/Los_Angeles:20260421T200000
LOCATION:https://www.learndesk.us/class/4592656506159104/lesson/cde9f2a32a5d03144e45810524c9413a?ref=outlook-calendar
DESCRIPTION: Once you have completed this lesson, you will know how to -

- Create notebooks
- Open notebooks
- Close notebooks

https://www.learndesk.us/class/4592656506159104/lesson/cde9f2a32a5d03144e45810524c9413a?ref=outlook-calendar
STATUS:CONFIRMED
SEQUENCE:3
BEGIN:VALARM
TRIGGER:-PT10M
DESCRIPTION:Class Reminder
ACTION:DISPLAY
END:VALARM
END:VEVENT
END:VCALENDAR