BEGIN:VCALENDAR
VERSION:2.0
CALSCALE:GREGORIAN
BEGIN:VEVENT
URL:https://www.learndesk.us/class/4592656506159104/lesson/c328ca87dbad4b8e5f2f533897213bb4?ref=outlook-calendar
SUMMARY:Sharing Notebooks
DTSTART;TZID=America/Los_Angeles:20260421T190000
DTEND;TZID=America/Los_Angeles:20260421T200000
LOCATION:https://www.learndesk.us/class/4592656506159104/lesson/c328ca87dbad4b8e5f2f533897213bb4?ref=outlook-calendar
DESCRIPTION: Once you have completed this lesson, you will be able to -

- Share notebooks via invite
- Set rights (Edit or View)
- Remove users from shared notebooks
- Create shared links
- Set rights (Edit or View)
- Remove shared access

https://www.learndesk.us/class/4592656506159104/lesson/c328ca87dbad4b8e5f2f533897213bb4?ref=outlook-calendar
STATUS:CONFIRMED
SEQUENCE:3
BEGIN:VALARM
TRIGGER:-PT10M
DESCRIPTION:Class Reminder
ACTION:DISPLAY
END:VALARM
END:VEVENT
END:VCALENDAR