BEGIN:VCALENDAR
VERSION:2.0
CALSCALE:GREGORIAN
BEGIN:VEVENT
URL:https://www.learndesk.us/class/4592656506159104/lesson/bf0893268a93d370eed27de82805a1aa?ref=outlook-calendar
SUMMARY:Tagging Notes
DTSTART;TZID=America/Los_Angeles:20260425T190000
DTEND;TZID=America/Los_Angeles:20260425T200000
LOCATION:https://www.learndesk.us/class/4592656506159104/lesson/bf0893268a93d370eed27de82805a1aa?ref=outlook-calendar
DESCRIPTION: Upon completion of this lesson, you will be able to -

- Tag notes using OneNote's built-in tags (such as To-Do tag, remember for later and important) or custom tags
- Search for tags using the tag summary sidebar

https://www.learndesk.us/class/4592656506159104/lesson/bf0893268a93d370eed27de82805a1aa?ref=outlook-calendar
STATUS:CONFIRMED
SEQUENCE:3
BEGIN:VALARM
TRIGGER:-PT10M
DESCRIPTION:Class Reminder
ACTION:DISPLAY
END:VALARM
END:VEVENT
END:VCALENDAR