BEGIN:VCALENDAR
VERSION:2.0
CALSCALE:GREGORIAN
BEGIN:VEVENT
URL:https://www.learndesk.us/class/4592656506159104/lesson/b066b1c430b3b45f1f8aeb5b0343673b?ref=outlook-calendar
SUMMARY:Working with Sections and Section Groups
DTSTART;TZID=America/Los_Angeles:20260421T190000
DTEND;TZID=America/Los_Angeles:20260421T200000
LOCATION:https://www.learndesk.us/class/4592656506159104/lesson/b066b1c430b3b45f1f8aeb5b0343673b?ref=outlook-calendar
DESCRIPTION: Once you complete this lesson, you will have the skills to -

- Create sections and section groups
- Move sections to a section group
- Rearrange sections

https://www.learndesk.us/class/4592656506159104/lesson/b066b1c430b3b45f1f8aeb5b0343673b?ref=outlook-calendar
STATUS:CONFIRMED
SEQUENCE:3
BEGIN:VALARM
TRIGGER:-PT10M
DESCRIPTION:Class Reminder
ACTION:DISPLAY
END:VALARM
END:VEVENT
END:VCALENDAR