BEGIN:VCALENDAR
VERSION:2.0
CALSCALE:GREGORIAN
BEGIN:VEVENT
URL:https://www.learndesk.us/class/4592656506159104/lesson/99a79c2dfe7a3ca30b5844707b63a2f0?ref=outlook-calendar
SUMMARY:Managing Meeting Details and Notes
DTSTART;TZID=America/Los_Angeles:20260425T190000
DTEND;TZID=America/Los_Angeles:20260425T200000
LOCATION:https://www.learndesk.us/class/4592656506159104/lesson/99a79c2dfe7a3ca30b5844707b63a2f0?ref=outlook-calendar
DESCRIPTION: https://www.learndesk.us/class/4592656506159104/lesson/99a79c2dfe7a3ca30b5844707b63a2f0?ref=outlook-calendar
STATUS:CONFIRMED
SEQUENCE:3
BEGIN:VALARM
TRIGGER:-PT10M
DESCRIPTION:Class Reminder
ACTION:DISPLAY
END:VALARM
END:VEVENT
END:VCALENDAR