BEGIN:VCALENDAR
VERSION:2.0
CALSCALE:GREGORIAN
BEGIN:VEVENT
URL:https://www.learndesk.us/class/4592656506159104/lesson/924b50ba59f80546db0089c50b10b578?ref=outlook-calendar
SUMMARY:Utilizing OneNote in Conjunction with Outlook Quiz
DTSTART;TZID=America/Los_Angeles:20260421T190000
DTEND;TZID=America/Los_Angeles:20260421T200000
LOCATION:https://www.learndesk.us/class/4592656506159104/lesson/924b50ba59f80546db0089c50b10b578?ref=outlook-calendar
DESCRIPTION: https://www.learndesk.us/class/4592656506159104/lesson/924b50ba59f80546db0089c50b10b578?ref=outlook-calendar
STATUS:CONFIRMED
SEQUENCE:3
BEGIN:VALARM
TRIGGER:-PT10M
DESCRIPTION:Class Reminder
ACTION:DISPLAY
END:VALARM
END:VEVENT
END:VCALENDAR