BEGIN:VCALENDAR
VERSION:2.0
CALSCALE:GREGORIAN
BEGIN:VEVENT
URL:https://www.learndesk.us/class/4592656506159104/lesson/8bcff8c1cf6e176bcc7092fff60b47a4?ref=outlook-calendar
SUMMARY:Attaching Files and Inserting Printouts
DTSTART;TZID=America/Los_Angeles:20260425T190000
DTEND;TZID=America/Los_Angeles:20260425T200000
LOCATION:https://www.learndesk.us/class/4592656506159104/lesson/8bcff8c1cf6e176bcc7092fff60b47a4?ref=outlook-calendar
DESCRIPTION: After completing this lesson, you will have the skills necessary to attach files (links to local or cloud-based files) and insert printouts (images of the file are placed within the note).

https://www.learndesk.us/class/4592656506159104/lesson/8bcff8c1cf6e176bcc7092fff60b47a4?ref=outlook-calendar
STATUS:CONFIRMED
SEQUENCE:3
BEGIN:VALARM
TRIGGER:-PT10M
DESCRIPTION:Class Reminder
ACTION:DISPLAY
END:VALARM
END:VEVENT
END:VCALENDAR