BEGIN:VCALENDAR
VERSION:2.0
CALSCALE:GREGORIAN
BEGIN:VEVENT
URL:https://www.learndesk.us/class/4592656506159104/lesson/74042a0a87211765497ce5c7417c4a8c?ref=outlook-calendar
SUMMARY:Functions and Features
DTSTART;TZID=America/Los_Angeles:20260421T190000
DTEND;TZID=America/Los_Angeles:20260421T200000
LOCATION:https://www.learndesk.us/class/4592656506159104/lesson/74042a0a87211765497ce5c7417c4a8c?ref=outlook-calendar
DESCRIPTION: After this section, you will have the skills to work with OneNote notebooks, pages, subpages, sections, and section groups.

https://www.learndesk.us/class/4592656506159104/lesson/74042a0a87211765497ce5c7417c4a8c?ref=outlook-calendar
STATUS:CONFIRMED
SEQUENCE:3
BEGIN:VALARM
TRIGGER:-PT10M
DESCRIPTION:Class Reminder
ACTION:DISPLAY
END:VALARM
END:VEVENT
END:VCALENDAR