BEGIN:VCALENDAR
VERSION:2.0
CALSCALE:GREGORIAN
BEGIN:VEVENT
URL:https://www.learndesk.us/class/4592656506159104/lesson/71c3bdb101760136e61f65d3054e9b1f?ref=outlook-calendar
SUMMARY:Working with Content Part 1
DTSTART;TZID=America/Los_Angeles:20260421T190000
DTEND;TZID=America/Los_Angeles:20260421T200000
LOCATION:https://www.learndesk.us/class/4592656506159104/lesson/71c3bdb101760136e61f65d3054e9b1f?ref=outlook-calendar
DESCRIPTION: After this lesson, you will be able to -

- Merge containers
- Highlight notes (typed text and objects)
- Use bullets and numbering

https://www.learndesk.us/class/4592656506159104/lesson/71c3bdb101760136e61f65d3054e9b1f?ref=outlook-calendar
STATUS:CONFIRMED
SEQUENCE:3
BEGIN:VALARM
TRIGGER:-PT10M
DESCRIPTION:Class Reminder
ACTION:DISPLAY
END:VALARM
END:VEVENT
END:VCALENDAR