BEGIN:VCALENDAR
VERSION:2.0
CALSCALE:GREGORIAN
BEGIN:VEVENT
URL:https://www.learndesk.us/class/4592656506159104/lesson/5632133d90b32c2b610e8a731dc77bb2?ref=outlook-calendar
SUMMARY:Overview
DTSTART;TZID=America/Los_Angeles:20260421T190000
DTEND;TZID=America/Los_Angeles:20260421T200000
LOCATION:https://www.learndesk.us/class/4592656506159104/lesson/5632133d90b32c2b610e8a731dc77bb2?ref=outlook-calendar
DESCRIPTION: At the end of this section, you will be able to navigate the OneNote screen, panes, and tabs and ribbons with ease. You will also be able to utilize the KeyTips.

https://www.learndesk.us/class/4592656506159104/lesson/5632133d90b32c2b610e8a731dc77bb2?ref=outlook-calendar
STATUS:CONFIRMED
SEQUENCE:3
BEGIN:VALARM
TRIGGER:-PT10M
DESCRIPTION:Class Reminder
ACTION:DISPLAY
END:VALARM
END:VEVENT
END:VCALENDAR