BEGIN:VCALENDAR
VERSION:2.0
CALSCALE:GREGORIAN
BEGIN:VEVENT
URL:https://www.learndesk.us/class/4592656506159104/lesson/5360ae9d5ee502ed9e99ffb7f14fea45?ref=outlook-calendar
SUMMARY:Taking Notes Part 1
DTSTART;TZID=America/Los_Angeles:20260421T190000
DTEND;TZID=America/Los_Angeles:20260421T200000
LOCATION:https://www.learndesk.us/class/4592656506159104/lesson/5360ae9d5ee502ed9e99ffb7f14fea45?ref=outlook-calendar
DESCRIPTION: Upon completion of this lesson, you will be able to take notes by -
- Typing notes
- Handwriting notes
- Recording audio and/or video notes

https://www.learndesk.us/class/4592656506159104/lesson/5360ae9d5ee502ed9e99ffb7f14fea45?ref=outlook-calendar
STATUS:CONFIRMED
SEQUENCE:3
BEGIN:VALARM
TRIGGER:-PT10M
DESCRIPTION:Class Reminder
ACTION:DISPLAY
END:VALARM
END:VEVENT
END:VCALENDAR