BEGIN:VCALENDAR
VERSION:2.0
CALSCALE:GREGORIAN
BEGIN:VEVENT
URL:https://www.learndesk.us/class/4592656506159104/lesson/42b925f7e0a1f876e039d04d370f707a?ref=outlook-calendar
SUMMARY:Quick Notes
DTSTART;TZID=America/Los_Angeles:20260421T190000
DTEND;TZID=America/Los_Angeles:20260421T200000
LOCATION:https://www.learndesk.us/class/4592656506159104/lesson/42b925f7e0a1f876e039d04d370f707a?ref=outlook-calendar
DESCRIPTION: Upon completion of this lesson, you will be able to -

- Create quick notes while using OneNote
- Create quick notes without opening OneNote

https://www.learndesk.us/class/4592656506159104/lesson/42b925f7e0a1f876e039d04d370f707a?ref=outlook-calendar
STATUS:CONFIRMED
SEQUENCE:3
BEGIN:VALARM
TRIGGER:-PT10M
DESCRIPTION:Class Reminder
ACTION:DISPLAY
END:VALARM
END:VEVENT
END:VCALENDAR