BEGIN:VCALENDAR
VERSION:2.0
CALSCALE:GREGORIAN
BEGIN:VEVENT
URL:https://www.learndesk.us/class/4592656506159104/lesson/41185984d8fd0ebf266da395078df605?ref=outlook-calendar
SUMMARY:Screen Basics and Tabs/Ribbons
DTSTART;TZID=America/Los_Angeles:20260425T190000
DTEND;TZID=America/Los_Angeles:20260425T200000
LOCATION:https://www.learndesk.us/class/4592656506159104/lesson/41185984d8fd0ebf266da395078df605?ref=outlook-calendar
DESCRIPTION: Upon completion of this lesson, you will have an understanding of OneNote's screen and be able to navigate OneNote's screen and within the tabs and ribbons.

https://www.learndesk.us/class/4592656506159104/lesson/41185984d8fd0ebf266da395078df605?ref=outlook-calendar
STATUS:CONFIRMED
SEQUENCE:3
BEGIN:VALARM
TRIGGER:-PT10M
DESCRIPTION:Class Reminder
ACTION:DISPLAY
END:VALARM
END:VEVENT
END:VCALENDAR