BEGIN:VCALENDAR
VERSION:2.0
CALSCALE:GREGORIAN
BEGIN:VEVENT
URL:https://www.learndesk.us/class/4592656506159104/lesson/2956ea81f3ca4b945cda29a05bdb4723?ref=outlook-calendar
SUMMARY:Searching
DTSTART;TZID=America/Los_Angeles:20260425T190000
DTEND;TZID=America/Los_Angeles:20260425T200000
LOCATION:https://www.learndesk.us/class/4592656506159104/lesson/2956ea81f3ca4b945cda29a05bdb4723?ref=outlook-calendar
DESCRIPTION: From this lesson, you will learn how to search the various types of notes. You will also learn how to turn on audio and video searching.

https://www.learndesk.us/class/4592656506159104/lesson/2956ea81f3ca4b945cda29a05bdb4723?ref=outlook-calendar
STATUS:CONFIRMED
SEQUENCE:3
BEGIN:VALARM
TRIGGER:-PT10M
DESCRIPTION:Class Reminder
ACTION:DISPLAY
END:VALARM
END:VEVENT
END:VCALENDAR