BEGIN:VCALENDAR
VERSION:2.0
CALSCALE:GREGORIAN
BEGIN:VEVENT
URL:https://www.learndesk.us/class/4592656506159104/lesson/2441b823bedaa3d2ce798f97a06ca2c4?ref=outlook-calendar
SUMMARY:Printing and Exporting
DTSTART;TZID=America/Los_Angeles:20260421T190000
DTEND;TZID=America/Los_Angeles:20260421T200000
LOCATION:https://www.learndesk.us/class/4592656506159104/lesson/2441b823bedaa3d2ce798f97a06ca2c4?ref=outlook-calendar
DESCRIPTION: Upon completion of this lesson, you will be able to -

- Print notes (add footer, if needed)
- Export pages, sections or notebooks to various formats

https://www.learndesk.us/class/4592656506159104/lesson/2441b823bedaa3d2ce798f97a06ca2c4?ref=outlook-calendar
STATUS:CONFIRMED
SEQUENCE:3
BEGIN:VALARM
TRIGGER:-PT10M
DESCRIPTION:Class Reminder
ACTION:DISPLAY
END:VALARM
END:VEVENT
END:VCALENDAR