BEGIN:VCALENDAR
VERSION:2.0
CALSCALE:GREGORIAN
BEGIN:VEVENT
URL:https://www.learndesk.us/class/4592656506159104/lesson/0358f16257df8d9e97f552ddb54d3771?ref=outlook-calendar
SUMMARY:Contextual Tabs and Key Tips
DTSTART;TZID=America/Los_Angeles:20260425T190000
DTEND;TZID=America/Los_Angeles:20260425T200000
LOCATION:https://www.learndesk.us/class/4592656506159104/lesson/0358f16257df8d9e97f552ddb54d3771?ref=outlook-calendar
DESCRIPTION: After this lesson, you will have an understanding of the various contextual tabs that become available within OneNote. You will also know how to use the Key Tips to navigate utilizing the keyboard instead of the mouse.

https://www.learndesk.us/class/4592656506159104/lesson/0358f16257df8d9e97f552ddb54d3771?ref=outlook-calendar
STATUS:CONFIRMED
SEQUENCE:3
BEGIN:VALARM
TRIGGER:-PT10M
DESCRIPTION:Class Reminder
ACTION:DISPLAY
END:VALARM
END:VEVENT
END:VCALENDAR