BEGIN:VCALENDAR
VERSION:2.0
CALSCALE:GREGORIAN
BEGIN:VEVENT
URL:https://www.learndesk.us/class/4592656506159104/utilizing-onenote-2016?ref=outlook-calendar
SUMMARY:Utilizing OneNote 2016
DTSTART;TZID=America/Los_Angeles:20260421T190000
DTEND;TZID=America/Los_Angeles:20260421T200000
LOCATION:https://www.learndesk.us/class/4592656506159104/utilizing-onenote-2016?ref=outlook-calendar
DESCRIPTION: 
Learn how to utilize and expand upon OneNote’s practical uses and enhanced features to your advantage.
This course will start by teaching you to navigate OneNote's screens and tab/ribbons. Once you are comfortable with navigating OneNote, we'll move into working with a wide range of features and functions.
What will you learn in this course?

OneNote screen overview
Screen basics
Tabs/Ribbons
Contextual tabs
Quick access toolbar
Adding commands/features to the quick access toolbar
Removing Commands/Features from the quick access toolbar
Changing the order of commands on the quick access toolbar
Moving the quick access toolbar
Resetting the quick access toolbar
Working with notebooks
Creating and closing notebooks
Opening notebooks
Working with pages and subpages
Adding pages
Deleting pages
Moving pages
Creating subpages
Expanding and collapsing subpages
Working with sections and section groups
Creating sections
Creating section groups
Moving sections to a section group
Rearranging...

https://www.learndesk.us/class/4592656506159104/utilizing-onenote-2016?ref=outlook-calendar
STATUS:CONFIRMED
SEQUENCE:3
BEGIN:VALARM
TRIGGER:-PT10M
DESCRIPTION:Class Reminder
ACTION:DISPLAY
END:VALARM
END:VEVENT
END:VCALENDAR