BEGIN:VCALENDAR
VERSION:2.0
CALSCALE:GREGORIAN
BEGIN:VEVENT
URL:https://www.learndesk.us/class/4588444934209536/lesson/d15970cd1c457ee4fc0d208212a6eb6d?ref=outlook-calendar
SUMMARY:Course Agenda and Introduction
DTSTART;TZID=America/Los_Angeles:20260421T190000
DTEND;TZID=America/Los_Angeles:20260421T200000
LOCATION:https://www.learndesk.us/class/4588444934209536/lesson/d15970cd1c457ee4fc0d208212a6eb6d?ref=outlook-calendar
DESCRIPTION: 
This lesson discusses the Dell EMC Unity course agenda and introduction.


https://www.learndesk.us/class/4588444934209536/lesson/d15970cd1c457ee4fc0d208212a6eb6d?ref=outlook-calendar
STATUS:CONFIRMED
SEQUENCE:3
BEGIN:VALARM
TRIGGER:-PT10M
DESCRIPTION:Class Reminder
ACTION:DISPLAY
END:VALARM
END:VEVENT
END:VCALENDAR