BEGIN:VCALENDAR
VERSION:2.0
CALSCALE:GREGORIAN
BEGIN:VEVENT
URL:https://www.learndesk.us/class/4588444934209536/lesson/cd3582f1fec565482d6f090a561ae338?ref=outlook-calendar
SUMMARY:Dell EMC Unity Scalability, Performance and Compliance Features
DTSTART;TZID=America/Los_Angeles:20260421T190000
DTEND;TZID=America/Los_Angeles:20260421T200000
LOCATION:https://www.learndesk.us/class/4588444934209536/lesson/cd3582f1fec565482d6f090a561ae338?ref=outlook-calendar
DESCRIPTION: 
This lesson discusses the scalability, performance, and compliance features of EMC Unity.


https://www.learndesk.us/class/4588444934209536/lesson/cd3582f1fec565482d6f090a561ae338?ref=outlook-calendar
STATUS:CONFIRMED
SEQUENCE:3
BEGIN:VALARM
TRIGGER:-PT10M
DESCRIPTION:Class Reminder
ACTION:DISPLAY
END:VALARM
END:VEVENT
END:VCALENDAR