BEGIN:VCALENDAR
VERSION:2.0
CALSCALE:GREGORIAN
BEGIN:VEVENT
URL:https://www.learndesk.us/class/4588444934209536/lesson/9c2c57b09d94b7a6a6fe6d0cd783246b?ref=outlook-calendar
SUMMARY:EMC Unity Data Mobility Features
DTSTART;TZID=America/Los_Angeles:20260425T190000
DTEND;TZID=America/Los_Angeles:20260425T200000
LOCATION:https://www.learndesk.us/class/4588444934209536/lesson/9c2c57b09d94b7a6a6fe6d0cd783246b?ref=outlook-calendar
DESCRIPTION: 
This lesson discusses the data mobility features for copy, moving, and migrating data.


https://www.learndesk.us/class/4588444934209536/lesson/9c2c57b09d94b7a6a6fe6d0cd783246b?ref=outlook-calendar
STATUS:CONFIRMED
SEQUENCE:3
BEGIN:VALARM
TRIGGER:-PT10M
DESCRIPTION:Class Reminder
ACTION:DISPLAY
END:VALARM
END:VEVENT
END:VCALENDAR