BEGIN:VCALENDAR
VERSION:2.0
CALSCALE:GREGORIAN
BEGIN:VEVENT
URL:https://www.learndesk.us/class/4588444934209536/lesson/9be9f57fd178b91a0ff0b0a4401d4cc3?ref=outlook-calendar
SUMMARY:UnityVSA Overview
DTSTART;TZID=America/Los_Angeles:20260425T190000
DTEND;TZID=America/Los_Angeles:20260425T200000
LOCATION:https://www.learndesk.us/class/4588444934209536/lesson/9be9f57fd178b91a0ff0b0a4401d4cc3?ref=outlook-calendar
DESCRIPTION: 
This lesson introduces the UnityVSA (virtual appliance).


https://www.learndesk.us/class/4588444934209536/lesson/9be9f57fd178b91a0ff0b0a4401d4cc3?ref=outlook-calendar
STATUS:CONFIRMED
SEQUENCE:3
BEGIN:VALARM
TRIGGER:-PT10M
DESCRIPTION:Class Reminder
ACTION:DISPLAY
END:VALARM
END:VEVENT
END:VCALENDAR