BEGIN:VCALENDAR
VERSION:2.0
CALSCALE:GREGORIAN
BEGIN:VEVENT
URL:https://www.learndesk.us/class/4588444934209536/lesson/8e52c8d5c0083341b98ed5a54f1f5fd2?ref=outlook-calendar
SUMMARY:Efficiency Features of EMC Unity
DTSTART;TZID=America/Los_Angeles:20260421T190000
DTEND;TZID=America/Los_Angeles:20260421T200000
LOCATION:https://www.learndesk.us/class/4588444934209536/lesson/8e52c8d5c0083341b98ed5a54f1f5fd2?ref=outlook-calendar
DESCRIPTION: 
This lesson discusses the efficiency features available in the EMC Unity platform.


https://www.learndesk.us/class/4588444934209536/lesson/8e52c8d5c0083341b98ed5a54f1f5fd2?ref=outlook-calendar
STATUS:CONFIRMED
SEQUENCE:3
BEGIN:VALARM
TRIGGER:-PT10M
DESCRIPTION:Class Reminder
ACTION:DISPLAY
END:VALARM
END:VEVENT
END:VCALENDAR