BEGIN:VCALENDAR
VERSION:2.0
CALSCALE:GREGORIAN
BEGIN:VEVENT
URL:https://www.learndesk.us/class/4588444934209536/lesson/8c638f50b0be6355709be2424974b58a?ref=outlook-calendar
SUMMARY:Management of EMC Unity
DTSTART;TZID=America/Los_Angeles:20260421T190000
DTEND;TZID=America/Los_Angeles:20260421T200000
LOCATION:https://www.learndesk.us/class/4588444934209536/lesson/8c638f50b0be6355709be2424974b58a?ref=outlook-calendar
DESCRIPTION: 
This lesson discusses the management tools that can be used to manage the EMC Unity platform.


https://www.learndesk.us/class/4588444934209536/lesson/8c638f50b0be6355709be2424974b58a?ref=outlook-calendar
STATUS:CONFIRMED
SEQUENCE:3
BEGIN:VALARM
TRIGGER:-PT10M
DESCRIPTION:Class Reminder
ACTION:DISPLAY
END:VALARM
END:VEVENT
END:VCALENDAR