BEGIN:VCALENDAR
VERSION:2.0
CALSCALE:GREGORIAN
BEGIN:VEVENT
URL:https://www.learndesk.us/class/4588444934209536/lesson/56416bbb48ac94501852200ebe6de615?ref=outlook-calendar
SUMMARY:EMC Unity Data Security Features
DTSTART;TZID=America/Los_Angeles:20260421T190000
DTEND;TZID=America/Los_Angeles:20260421T200000
LOCATION:https://www.learndesk.us/class/4588444934209536/lesson/56416bbb48ac94501852200ebe6de615?ref=outlook-calendar
DESCRIPTION: 
This lesson discusses the data security concepts available in the EMC Unit platform.


https://www.learndesk.us/class/4588444934209536/lesson/56416bbb48ac94501852200ebe6de615?ref=outlook-calendar
STATUS:CONFIRMED
SEQUENCE:3
BEGIN:VALARM
TRIGGER:-PT10M
DESCRIPTION:Class Reminder
ACTION:DISPLAY
END:VALARM
END:VEVENT
END:VCALENDAR