BEGIN:VCALENDAR
VERSION:2.0
CALSCALE:GREGORIAN
BEGIN:VEVENT
URL:https://www.learndesk.us/class/4588444934209536/lesson/1fd94c9fc6746dacdf27057cf318252f?ref=outlook-calendar
SUMMARY:Dell EMC Unity Overview and Architecture
DTSTART;TZID=America/Los_Angeles:20260421T190000
DTEND;TZID=America/Los_Angeles:20260421T200000
LOCATION:https://www.learndesk.us/class/4588444934209536/lesson/1fd94c9fc6746dacdf27057cf318252f?ref=outlook-calendar
DESCRIPTION: 
This lesson is about EMC Unity overview and basic architecture.


https://www.learndesk.us/class/4588444934209536/lesson/1fd94c9fc6746dacdf27057cf318252f?ref=outlook-calendar
STATUS:CONFIRMED
SEQUENCE:3
BEGIN:VALARM
TRIGGER:-PT10M
DESCRIPTION:Class Reminder
ACTION:DISPLAY
END:VALARM
END:VEVENT
END:VCALENDAR