BEGIN:VCALENDAR
VERSION:2.0
CALSCALE:GREGORIAN
BEGIN:VEVENT
URL:https://www.learndesk.us/class/4588444934209536/lesson/115921a532d5de0cf9fd068fa8dfcf85?ref=outlook-calendar
SUMMARY:Virtualization Support in EMC Unity
DTSTART;TZID=America/Los_Angeles:20260421T190000
DTEND;TZID=America/Los_Angeles:20260421T200000
LOCATION:https://www.learndesk.us/class/4588444934209536/lesson/115921a532d5de0cf9fd068fa8dfcf85?ref=outlook-calendar
DESCRIPTION: 
This lesson discusses the virtualization support for EMC Unity.


https://www.learndesk.us/class/4588444934209536/lesson/115921a532d5de0cf9fd068fa8dfcf85?ref=outlook-calendar
STATUS:CONFIRMED
SEQUENCE:3
BEGIN:VALARM
TRIGGER:-PT10M
DESCRIPTION:Class Reminder
ACTION:DISPLAY
END:VALARM
END:VEVENT
END:VCALENDAR