BEGIN:VCALENDAR
VERSION:2.0
CALSCALE:GREGORIAN
BEGIN:VEVENT
URL:https://www.learndesk.us/class/4588444934209536/dell-emc-unity-fundamentals-hardware-and-software-components?ref=outlook-calendar
SUMMARY:Dell EMC Unity Fundamentals, Hardware and Software Components
DTSTART;TZID=America/Los_Angeles:20260421T190000
DTEND;TZID=America/Los_Angeles:20260421T200000
LOCATION:https://www.learndesk.us/class/4588444934209536/dell-emc-unity-fundamentals-hardware-and-software-components?ref=outlook-calendar
DESCRIPTION: 
Dell EMC UnityXT models and UnityVSA are native unified storage platform that offers NAS and SAN infrastructure. It offers flash and hybrid storage as well as the virtual appliance UnityVSA.
The course covers the following topics related to Dell EMC Unity.

Overview of EMC Unity components
The basic architecture of EMC Unity
Concepts and features such as data protection, efficiency, deduplication, compression, and replication
Management interfaces (Unisphere, CLI, REST API)
Best practices



https://www.learndesk.us/class/4588444934209536/dell-emc-unity-fundamentals-hardware-and-software-components?ref=outlook-calendar
STATUS:CONFIRMED
SEQUENCE:3
BEGIN:VALARM
TRIGGER:-PT10M
DESCRIPTION:Class Reminder
ACTION:DISPLAY
END:VALARM
END:VEVENT
END:VCALENDAR