BEGIN:VCALENDAR
VERSION:2.0
CALSCALE:GREGORIAN
BEGIN:VEVENT
URL:https://www.learndesk.us/class/4578978356527104/lesson/e1284e17cf2e0f8438d74c67b729bc88?ref=outlook-calendar
SUMMARY:Introduction to EMC VNX Part 1
DTSTART;TZID=America/Los_Angeles:20260421T190000
DTEND;TZID=America/Los_Angeles:20260421T200000
LOCATION:https://www.learndesk.us/class/4578978356527104/lesson/e1284e17cf2e0f8438d74c67b729bc88?ref=outlook-calendar
DESCRIPTION: 
This Lecture introduces you to the VNX architecture overview and components.


https://www.learndesk.us/class/4578978356527104/lesson/e1284e17cf2e0f8438d74c67b729bc88?ref=outlook-calendar
STATUS:CONFIRMED
SEQUENCE:3
BEGIN:VALARM
TRIGGER:-PT10M
DESCRIPTION:Class Reminder
ACTION:DISPLAY
END:VALARM
END:VEVENT
END:VCALENDAR