BEGIN:VCALENDAR
VERSION:2.0
CALSCALE:GREGORIAN
BEGIN:VEVENT
URL:https://www.learndesk.us/class/4578978356527104/lesson/c893aca4be7aea4cfbeff63c168d419d?ref=outlook-calendar
SUMMARY:Dell EMC VNX Storage System Administration and Management
DTSTART;TZID=America/Los_Angeles:20260421T190000
DTEND;TZID=America/Los_Angeles:20260421T200000
LOCATION:https://www.learndesk.us/class/4578978356527104/lesson/c893aca4be7aea4cfbeff63c168d419d?ref=outlook-calendar
DESCRIPTION: This section includes video lessons on VNX Storage Administration skills.

https://www.learndesk.us/class/4578978356527104/lesson/c893aca4be7aea4cfbeff63c168d419d?ref=outlook-calendar
STATUS:CONFIRMED
SEQUENCE:3
BEGIN:VALARM
TRIGGER:-PT10M
DESCRIPTION:Class Reminder
ACTION:DISPLAY
END:VALARM
END:VEVENT
END:VCALENDAR