BEGIN:VCALENDAR
VERSION:2.0
CALSCALE:GREGORIAN
BEGIN:VEVENT
URL:https://www.learndesk.us/class/4578978356527104/lesson/a1ed88e93324b5608c4abd49fb16f8c1?ref=outlook-calendar
SUMMARY:EMC VNX Hardware Components
DTSTART;TZID=America/Los_Angeles:20260421T190000
DTEND;TZID=America/Los_Angeles:20260421T200000
LOCATION:https://www.learndesk.us/class/4578978356527104/lesson/a1ed88e93324b5608c4abd49fb16f8c1?ref=outlook-calendar
DESCRIPTION: 
In this lecture, we will discuss the Hardware Components in detail.


https://www.learndesk.us/class/4578978356527104/lesson/a1ed88e93324b5608c4abd49fb16f8c1?ref=outlook-calendar
STATUS:CONFIRMED
SEQUENCE:3
BEGIN:VALARM
TRIGGER:-PT10M
DESCRIPTION:Class Reminder
ACTION:DISPLAY
END:VALARM
END:VEVENT
END:VCALENDAR