BEGIN:VCALENDAR
VERSION:2.0
CALSCALE:GREGORIAN
BEGIN:VEVENT
URL:https://www.learndesk.us/class/4578978356527104/lesson/865942e330e408ab7ad5c60873c06b0e?ref=outlook-calendar
SUMMARY:EMC VNX Logical Components
DTSTART;TZID=America/Los_Angeles:20260421T190000
DTEND;TZID=America/Los_Angeles:20260421T200000
LOCATION:https://www.learndesk.us/class/4578978356527104/lesson/865942e330e408ab7ad5c60873c06b0e?ref=outlook-calendar
DESCRIPTION: 
In this section, we will cover the Logical Components of VNX, useful for administration and monitoring a VNX Storage System.


https://www.learndesk.us/class/4578978356527104/lesson/865942e330e408ab7ad5c60873c06b0e?ref=outlook-calendar
STATUS:CONFIRMED
SEQUENCE:3
BEGIN:VALARM
TRIGGER:-PT10M
DESCRIPTION:Class Reminder
ACTION:DISPLAY
END:VALARM
END:VEVENT
END:VCALENDAR