BEGIN:VCALENDAR
VERSION:2.0
CALSCALE:GREGORIAN
BEGIN:VEVENT
URL:https://www.learndesk.us/class/4578978356527104/lesson/27e1e209dcbcceee49a1dc878db691a9?ref=outlook-calendar
SUMMARY:EMC VNX Administration
DTSTART;TZID=America/Los_Angeles:20260421T190000
DTEND;TZID=America/Los_Angeles:20260421T200000
LOCATION:https://www.learndesk.us/class/4578978356527104/lesson/27e1e209dcbcceee49a1dc878db691a9?ref=outlook-calendar
DESCRIPTION: 
In this section, we will discuss the administration task to manage a VNX Storage System. All the day-to-day administration tasks required by a Storage Administrator are highlighted.


https://www.learndesk.us/class/4578978356527104/lesson/27e1e209dcbcceee49a1dc878db691a9?ref=outlook-calendar
STATUS:CONFIRMED
SEQUENCE:3
BEGIN:VALARM
TRIGGER:-PT10M
DESCRIPTION:Class Reminder
ACTION:DISPLAY
END:VALARM
END:VEVENT
END:VCALENDAR